BEGIN:VCALENDAR
VERSION:2.0
PRODID:-//81.169.145.82//NONSGML kigkonsult.se iCalcreator 2.20//
CALSCALE:GREGORIAN
METHOD:PUBLISH
X-WR-TIMEZONE:Europe/Berlin
BEGIN:VEVENT
UID:event434@Basketball Regionalliga Nord
DTSTAMP:20260424T041900Z
CATEGORIES:Lehrgang
DESCRIPTION:Schiedsrichterlehrgang Kader West\nKategorie: Lehrgang\nICS-Lin
 k: https://www.rln-basketball.de/index.php?option=com_jem&view=event&id=43
 4:schiedsrichterlehrgang-kader-west\n
DTSTART;VALUE=DATE:20260829
DTEND;VALUE=DATE:20260831
SUMMARY:Schiedsrichterlehrgang Kader West
URL:https://www.rln-basketball.de/index.php?option=com_jem&view=event&id=43
 4:schiedsrichterlehrgang-kader-west
END:VEVENT
BEGIN:VEVENT
UID:event435@Basketball Regionalliga Nord
DTSTAMP:20260424T041900Z
CATEGORIES:Lehrgang
DESCRIPTION:Schiedsrichterlehrgang Kader Nord\nKategorie: Lehrgang\nICS-Lin
 k: https://www.rln-basketball.de/index.php?option=com_jem&view=event&id=43
 5:schiedsrichterlehrgang-kader-nord\n
DTSTART;VALUE=DATE:20260905
DTEND;VALUE=DATE:20260907
SUMMARY:Schiedsrichterlehrgang Kader Nord
URL:https://www.rln-basketball.de/index.php?option=com_jem&view=event&id=43
 5:schiedsrichterlehrgang-kader-nord
END:VEVENT
BEGIN:VEVENT
UID:event436@Basketball Regionalliga Nord
DTSTAMP:20260424T041900Z
CATEGORIES:Lehrgang
DESCRIPTION:Schiedsrichterlehrgang Kader Ost\nKategorie: Lehrgang\nICS-Link
 : https://www.rln-basketball.de/index.php?option=com_jem&view=event&id=436
 :schiedsrichterlehrgang-kader-ost\n
DTSTART;VALUE=DATE:20260905
DTEND;VALUE=DATE:20260907
SUMMARY:Schiedsrichterlehrgang Kader Ost
URL:https://www.rln-basketball.de/index.php?option=com_jem&view=event&id=43
 6:schiedsrichterlehrgang-kader-ost
END:VEVENT
BEGIN:VEVENT
UID:event437@Basketball Regionalliga Nord
DTSTAMP:20260424T041900Z
CATEGORIES:Lehrgang
DESCRIPTION:Schiedsrichterlehrgang Kader 1. Regionalliga\nKategorie: Lehrga
 ng\nICS-Link: https://www.rln-basketball.de/index.php?option=com_jem&view=
 event&id=437:schiedsrichterlehrgang-kader-1-regionalliga\n
DTSTART;VALUE=DATE:20260911
DTEND;VALUE=DATE:20260914
LOCATION:Stade\,Stade\,Germany
SUMMARY:Schiedsrichterlehrgang Kader 1. Regionalliga
URL:https://www.rln-basketball.de/index.php?option=com_jem&view=event&id=43
 7:schiedsrichterlehrgang-kader-1-regionalliga
END:VEVENT
BEGIN:VEVENT
UID:event438@Basketball Regionalliga Nord
DTSTAMP:20260424T041900Z
CATEGORIES:Lehrgang
DESCRIPTION:Vorbereitungtreffen für SR Coaches\nKategorie: Lehrgang\nICS-Li
 nk: https://www.rln-basketball.de/index.php?option=com_jem&view=event&id=4
 38:vorbereitungtreffen-fuer-sr-coaches\n
DTSTART;VALUE=DATE:20260911
DTEND;VALUE=DATE:20260914
LOCATION:Stade\,Stade\,Germany
SUMMARY:Vorbereitungtreffen für SR Coaches
URL:https://www.rln-basketball.de/index.php?option=com_jem&view=event&id=43
 8:vorbereitungtreffen-fuer-sr-coaches
END:VEVENT
END:VCALENDAR
