BEGIN:VCALENDAR
VERSION:2.0
PRODID:-//81.169.145.82//NONSGML kigkonsult.se iCalcreator 2.20//
CALSCALE:GREGORIAN
METHOD:PUBLISH
X-WR-TIMEZONE:Europe/Berlin
BEGIN:VEVENT
UID:event288@Basketball Regionalliga Nord
DTSTAMP:20260425T170137Z
CATEGORIES:Meldung Norddeutsche Meisterschaft
DESCRIPTION:wU18 Meldetermin\nKategorie: Meldung Norddeutsche Meisterschaft
 \nICS-Link: https://www.rln-basketball.de/index.php?option=com_jem&view=ev
 ent&id=288:wu18-meldetermin\n
DTSTART;VALUE=DATE:20220523
DTEND;VALUE=DATE:20220524
SUMMARY:wU18 Meldetermin
URL:https://www.rln-basketball.de/index.php?option=com_jem&view=event&id=28
 8:wu18-meldetermin
END:VEVENT
END:VCALENDAR
