BEGIN:VCALENDAR
VERSION:2.0
PRODID:-//81.169.145.82//NONSGML kigkonsult.se iCalcreator 2.20//
CALSCALE:GREGORIAN
METHOD:PUBLISH
X-WR-TIMEZONE:Europe/Berlin
BEGIN:VEVENT
UID:event363@Basketball Regionalliga Nord
DTSTAMP:20260423T080432Z
CATEGORIES:Meldung Norddeutsche Meisterschaft
DESCRIPTION:wU16\, mU14\, wU18\, mU18\nKategorie: Meldung Norddeutsche Meis
 terschaft\nICS-Link: https://www.rln-basketball.de/index.php?option=com_je
 m&view=event&id=363:wu16-mu14-wu18-mu18\n
DTSTART;VALUE=DATE:20240408
DTEND;VALUE=DATE:20240409
SUMMARY:wU16\, mU14\, wU18\, mU18
URL:https://www.rln-basketball.de/index.php?option=com_jem&view=event&id=36
 3:wu16-mu14-wu18-mu18
END:VEVENT
END:VCALENDAR
