BEGIN:VCALENDAR
VERSION:2.0
PRODID:-//81.169.145.82//NONSGML kigkonsult.se iCalcreator 2.20//
CALSCALE:GREGORIAN
METHOD:PUBLISH
X-WR-TIMEZONE:Europe/Berlin
BEGIN:VEVENT
UID:event20@Basketball Regionalliga Nord
DTSTAMP:20260421T125334Z
CATEGORIES:Norddeutsche Meisterschaft
DESCRIPTION:Norddeutsche Meisterschaft männliche U20\nKategorie: Norddeutsc
 he Meisterschaft\nICS-Link: https://www.rln-basketball.de/index.php?option
 =com_jem&view=event&id=20:nordmeisterschaft-maennliche-u20\n
DTSTART;VALUE=DATE:20150606
DTEND;VALUE=DATE:20150608
SUMMARY:Norddeutsche Meisterschaft männliche U20
URL:https://www.rln-basketball.de/index.php?option=com_jem&view=event&id=20
 :nordmeisterschaft-maennliche-u20
END:VEVENT
END:VCALENDAR
