BEGIN:VCALENDAR
VERSION:2.0
PRODID:-//81.169.145.82//NONSGML kigkonsult.se iCalcreator 2.20//
CALSCALE:GREGORIAN
METHOD:PUBLISH
X-WR-TIMEZONE:Europe/Berlin
BEGIN:VEVENT
UID:event238@Basketball Regionalliga Nord
DTSTAMP:20260424T163738Z
CATEGORIES:Lehrgang
DESCRIPTION:Schiedsrichterlehrgang Kader Ost\nKategorie: Lehrgang\nICS-Link
 : https://www.rln-basketball.de/index.php?option=com_jem&view=event&id=238
 :schiedsrichterlehrgang-kader-ost\n
DTSTART;TZID=Europe/Berlin:20200919T100000
DTEND;TZID=Europe/Berlin:20200919T170000
LOCATION:Berlin\,Berlin
SUMMARY:Schiedsrichterlehrgang Kader Ost
URL:https://www.rln-basketball.de/index.php?option=com_jem&view=event&id=23
 8:schiedsrichterlehrgang-kader-ost
END:VEVENT
END:VCALENDAR
