BEGIN:VCALENDAR
VERSION:2.0
PRODID:-//81.169.145.82//NONSGML kigkonsult.se iCalcreator 2.20//
CALSCALE:GREGORIAN
METHOD:PUBLISH
X-WR-TIMEZONE:Europe/Berlin
BEGIN:VEVENT
UID:event275@Basketball Regionalliga Nord
DTSTAMP:20260420T032454Z
CATEGORIES:Norddeutsche Meisterschaft
DESCRIPTION:Ü40 Damen und Herren\nKategorie: Norddeutsche Meisterschaft\nIC
 S-Link: https://www.rln-basketball.de/index.php?option=com_jem&view=event&
 id=275:ue40-damen-und-herren\n
DTSTART;VALUE=DATE:20210213
DTEND;VALUE=DATE:20210215
SUMMARY:Ü40 Damen und Herren
URL:https://www.rln-basketball.de/index.php?option=com_jem&view=event&id=27
 5:ue40-damen-und-herren
END:VEVENT
END:VCALENDAR
