BEGIN:VCALENDAR
VERSION:2.0
PRODID:-//81.169.145.82//NONSGML kigkonsult.se iCalcreator 2.20//
CALSCALE:GREGORIAN
METHOD:PUBLISH
X-WR-TIMEZONE:Europe/Berlin
BEGIN:VEVENT
UID:event291@Basketball Regionalliga Nord
DTSTAMP:20260423T142207Z
CATEGORIES:Norddeutsche Meisterschaft
DESCRIPTION:Ü35 Damen und Herren\nKategorie: Norddeutsche Meisterschaft\nIC
 S-Link: https://www.rln-basketball.de/index.php?option=com_jem&view=event&
 id=291:ue35-damen-und-herren\n
DTSTART;VALUE=DATE:20220205
DTEND;VALUE=DATE:20220207
SUMMARY:Ü35 Damen und Herren
URL:https://www.rln-basketball.de/index.php?option=com_jem&view=event&id=29
 1:ue35-damen-und-herren
END:VEVENT
END:VCALENDAR
