BEGIN:VCALENDAR
VERSION:2.0
PRODID:-//81.169.145.82//NONSGML kigkonsult.se iCalcreator 2.20//
CALSCALE:GREGORIAN
METHOD:PUBLISH
X-WR-TIMEZONE:Europe/Berlin
BEGIN:VEVENT
UID:event30@Basketball Regionalliga Nord
DTSTAMP:20260424T102533Z
CATEGORIES:Norddeutsche Meisterschaft
DESCRIPTION:Norddeutsche Meisterschaft Ü35\nKategorie: Norddeutsche Meister
 schaft\nICS-Link: https://www.rln-basketball.de/index.php?option=com_jem&v
 iew=event&id=30:nordmeisterschaften-ue35\n
DTSTART;VALUE=DATE:20150221
DTEND;VALUE=DATE:20150223
SUMMARY:Norddeutsche Meisterschaft Ü35
URL:https://www.rln-basketball.de/index.php?option=com_jem&view=event&id=30
 :nordmeisterschaften-ue35
END:VEVENT
END:VCALENDAR
