BEGIN:VCALENDAR
VERSION:2.0
PRODID:-//81.169.145.82//NONSGML kigkonsult.se iCalcreator 2.20//
CALSCALE:GREGORIAN
METHOD:PUBLISH
X-WR-TIMEZONE:Europe/Berlin
BEGIN:VEVENT
UID:event362@Basketball Regionalliga Nord
DTSTAMP:20260422T002307Z
CATEGORIES:Meldung Norddeutsche Meisterschaft
DESCRIPTION:wU14\, mU16\nKategorie: Meldung Norddeutsche Meisterschaft\nICS
 -Link: https://www.rln-basketball.de/index.php?option=com_jem&view=event&i
 d=362:wu14-mu16\n
DTSTART;VALUE=DATE:20240401
DTEND;VALUE=DATE:20240402
SUMMARY:wU14\, mU16
URL:https://www.rln-basketball.de/index.php?option=com_jem&view=event&id=36
 2:wu14-mu16
END:VEVENT
END:VCALENDAR
