BEGIN:VCALENDAR
VERSION:2.0
PRODID:-//81.169.145.82//NONSGML kigkonsult.se iCalcreator 2.20//
CALSCALE:GREGORIAN
METHOD:PUBLISH
X-WR-TIMEZONE:Europe/Berlin
BEGIN:VEVENT
UID:event85@Basketball Regionalliga Nord
DTSTAMP:20260424T201722Z
CATEGORIES:Lehrgang
DESCRIPTION:Lehrgang SR-Kader Ost\nKategorie: Lehrgang\nICS-Link: https://w
 ww.rln-basketball.de/index.php?option=com_jem&view=event&id=85:lehrgang-sr
 -kader-ost\n
DTSTART;VALUE=DATE:20160918
DTEND;VALUE=DATE:20160919
LOCATION:Berlin\,Berlin
SUMMARY:Lehrgang SR-Kader Ost
URL:https://www.rln-basketball.de/index.php?option=com_jem&view=event&id=85
 :lehrgang-sr-kader-ost
END:VEVENT
END:VCALENDAR
