BEGIN:VCALENDAR
VERSION:2.0
PRODID:-//81.169.145.82//NONSGML kigkonsult.se iCalcreator 2.20//
CALSCALE:GREGORIAN
METHOD:PUBLISH
X-WR-TIMEZONE:Europe/Berlin
BEGIN:VEVENT
UID:event97@Basketball Regionalliga Nord
DTSTAMP:20260424T202816Z
CATEGORIES:Event
DESCRIPTION:Hermsdorf-Cup 2016\nKategorie: Event\nICS-Link: https://www.rln
 -basketball.de/index.php?option=com_jem&view=event&id=97:hermsdorf-cup-201
 6\n
DTSTART;VALUE=DATE:20160916
DTEND;VALUE=DATE:20160919
LOCATION:Berlin\,Berlin
SUMMARY:Hermsdorf-Cup 2016
URL:https://www.rln-basketball.de/index.php?option=com_jem&view=event&id=97
 :hermsdorf-cup-2016
END:VEVENT
END:VCALENDAR
