BEGIN:VCALENDAR
VERSION:2.0
PRODID:-//81.169.145.82//NONSGML kigkonsult.se iCalcreator 2.20//
CALSCALE:GREGORIAN
METHOD:PUBLISH
X-WR-TIMEZONE:Europe/Berlin
BEGIN:VEVENT
UID:event439@Basketball Regionalliga Nord
DTSTAMP:20260420T090640Z
CATEGORIES:Sitzung
DESCRIPTION:28. Mitgliederversammlung\nKategorie: Sitzung\nICS-Link: https:
 //www.rln-basketball.de/index.php?option=com_jem&view=event&id=439:28-mitg
 liederversammlung\n
DTSTART;TZID=Europe/Berlin:20260426T103000
DTEND;TZID=Europe/Berlin:20260426T103000
LOCATION:Haus des Sports\,Schäferkampsallee 1\,20537 Hamburg\,Germany
SUMMARY:28. Mitgliederversammlung
URL:https://www.rln-basketball.de/index.php?option=com_jem&view=event&id=43
 9:28-mitgliederversammlung
END:VEVENT
END:VCALENDAR
